BEGIN:VCALENDAR
VERSION:2.0
PRODID:-//Squarespace Inc/Squarespace 6//v6//EN
BEGIN:VEVENT
UID:5cf077fe8539df0001ba0f6c@squarespace.com
DTSTAMP:20190531T005151Z
DTSTART:20190614T050000Z
DTEND:20190615T080000Z
SUMMARY:WINETOPIA AUCKLAND
END:VEVENT
END:VCALENDAR
