BEGIN:VCALENDAR
VERSION:2.0
PRODID:-//Squarespace Inc/Squarespace 6//v6//EN
BEGIN:VEVENT
UID:5cf07973fc9b5400011d4898@squarespace.com
DTSTAMP:20190531T005238Z
DTSTART:20190712T050000Z
DTEND:20190713T080000Z
SUMMARY:WINETOPIA WELLINGTON
END:VEVENT
END:VCALENDAR
